BEGIN:VCALENDAR
VERSION:2.0
PRODID:-//valleyhealthfoundation.org//NONSGML kigkonsult.se iCalcreator 2.3
 0.10//
CALSCALE:GREGORIAN
METHOD:PUBLISH
UID:79f8a5c9-771b-4afe-a532-536d39406717
X-WR-CALDESC:Join the fun at the most exciting Independence Day themed race
  in the bay area! Every step you take at the Stars & Strides 5K/10K helps 
 strengthen the health of our community. All proceeds from this event benef
 it Valley Health Foundation\, which supports Silicon Valley’s most vital p
 ublic healthcare facilities and programs.
X-WR-RELCALID:154b68d0ec14a152d94e9f6fbea8290c
X-WR-TIMEZONE:America/Los_Angeles
BEGIN:VTIMEZONE
TZID:America/Los_Angeles
BEGIN:STANDARD
TZNAME:PST
DTSTART:20251102T020000
TZOFFSETFROM:-0700
TZOFFSETTO:-0800
RDATE:20261101T020000
RDATE:20271107T020000
END:STANDARD
BEGIN:DAYLIGHT
TZNAME:PDT
DTSTART:20260308T020000
TZOFFSETFROM:-0800
TZOFFSETTO:-0700
RDATE:20270314T020000
END:DAYLIGHT
END:VTIMEZONE
BEGIN:VEVENT
UID:311aebe4-3a35-4783-a82a-18044e6b5dca
DTSTAMP:20260424T045811Z
DESCRIPTION:Join the fun at the most exciting Independence Day themed race 
 in the bay area! Every step you take at the Stars & Strides 5K/10K helps s
 trengthen the health of our community. All proceeds from this event benefi
 t Valley Health Foundation\, which supports Silicon Valley’s most vital pu
 blic healthcare facilities and programs.
DTSTART;TZID=America/Los_Angeles:20260711T080000
DTEND;TZID=America/Los_Angeles:20260711T120000
LOCATION:Discovery Meadow \, 180 Woz Way\, San Jose\, CA 95110 US
SUMMARY:Stars and Strides 5K-10K and Kids Fun Run
END:VEVENT
END:VCALENDAR
