BEGIN:VCALENDAR
VERSION:2.0
PRODID:-//valleyhealthfoundation.org//NONSGML kigkonsult.se iCalcreator 2.3
 0.10//
CALSCALE:GREGORIAN
METHOD:PUBLISH
UID:671d5235-580e-44d5-becd-64d2c00bc00a
X-WR-CALDESC:
X-WR-RELCALID:7482ab137b3dbe310db46693bb92920e
X-WR-TIMEZONE:America/Los_Angeles
BEGIN:VTIMEZONE
TZID:America/Los_Angeles
BEGIN:STANDARD
TZNAME:PST
DTSTART:20251102T020000
TZOFFSETFROM:-0700
TZOFFSETTO:-0800
RDATE:20261101T020000
END:STANDARD
BEGIN:DAYLIGHT
TZNAME:PDT
DTSTART:20260308T020000
TZOFFSETFROM:-0800
TZOFFSETTO:-0700
RDATE:20270314T020000
END:DAYLIGHT
END:VTIMEZONE
BEGIN:VEVENT
UID:ea855ad7-678b-460c-ba5e-13d4cf89c73a
DTSTAMP:20260424T045331Z
DESCRIPTION:
DTSTART;TZID=America/Los_Angeles:20260504T083000
DTEND;TZID=America/Los_Angeles:20260504T170000
LOCATION:SCVMC Nursing Education Dept.\, Yosemite Classroom\, 2408 Clove Dr
 ive\, San Jose\, CA 95128 US
SUMMARY:S.T.A.B.L.E. Program
END:VEVENT
END:VCALENDAR
