BEGIN:VCALENDAR
VERSION:2.0
PRODID:-//valleyhealthfoundation.org//NONSGML kigkonsult.se iCalcreator 2.3
 0.10//
CALSCALE:GREGORIAN
METHOD:PUBLISH
UID:b1f4c96a-a52c-44a5-839c-70a0d62e3842
X-WR-CALDESC:We’re thrilled to bring the event back for the third year—and 
 we’d love for you to join us!\n\nGet ready for laughs\, surprises\, and a 
 little friendly competition\, as local celebrity guests battle to be crown
 ed Santa Clara County’s trivia champions. Whether you’re returning or atte
 nding for the first time\, expect an engaging game show celebrating all th
 ings San Jose and Santa Clara County.
X-WR-RELCALID:8339ca72b47eca6b615352d0f62d7835
X-WR-TIMEZONE:America/Los_Angeles
BEGIN:VTIMEZONE
TZID:America/Los_Angeles
BEGIN:STANDARD
TZNAME:PST
DTSTART:20251102T020000
TZOFFSETFROM:-0700
TZOFFSETTO:-0800
RDATE:20261101T020000
RDATE:20271107T020000
END:STANDARD
BEGIN:DAYLIGHT
TZNAME:PDT
DTSTART:20260308T020000
TZOFFSETFROM:-0800
TZOFFSETTO:-0700
RDATE:20270314T020000
RDATE:20280312T020000
END:DAYLIGHT
END:VTIMEZONE
BEGIN:VEVENT
UID:58bf6749-f2fd-44b0-86c5-6b236d2f0e53
DTSTAMP:20260424T072929Z
DESCRIPTION:We’re thrilled to bring the event back for the third year—and w
 e’d love for you to join us!\n\nGet ready for laughs\, surprises\, and a l
 ittle friendly competition\, as local celebrity guests battle to be crowne
 d Santa Clara County’s trivia champions. Whether you’re returning or atten
 ding for the first time\, expect an engaging game show celebrating all thi
 ngs San Jose and Santa Clara County.
DTSTART;TZID=America/Los_Angeles:20261029T173000
DTEND;TZID=America/Los_Angeles:20261029T213000
LOCATION:San Jose Stage\, 490 S 1st Street\, San Jose\, CA 95113 US
SUMMARY:San Jose Q&A - A Trivia Showdown in Support of Burn Recovery
END:VEVENT
END:VCALENDAR
