BEGIN:VCALENDAR
VERSION:2.0
PRODID:-//valleyhealthfoundation.org//NONSGML kigkonsult.se iCalcreator 2.3
 0.10//
CALSCALE:GREGORIAN
METHOD:PUBLISH
UID:414b4d36-1811-4d10-bd6d-46e0766c6452
X-WR-CALDESC:
X-WR-RELCALID:4c51eaa4b090ef6b1bc58178b6925984
X-WR-TIMEZONE:America/Los_Angeles
BEGIN:VTIMEZONE
TZID:America/Los_Angeles
BEGIN:STANDARD
TZNAME:PST
DTSTART:20251102T020000
TZOFFSETFROM:-0700
TZOFFSETTO:-0800
RDATE:20261101T020000
END:STANDARD
BEGIN:DAYLIGHT
TZNAME:PDT
DTSTART:20260308T020000
TZOFFSETFROM:-0800
TZOFFSETTO:-0700
RDATE:20270314T020000
END:DAYLIGHT
END:VTIMEZONE
BEGIN:VEVENT
UID:c2b3d8a0-1e12-4420-8020-0f550ee19de4
DTSTAMP:20260426T035908Z
DESCRIPTION:
DTSTART;TZID=America/Los_Angeles:20260506T080000
DTEND;TZID=America/Los_Angeles:20260507T163000
LOCATION:225 North Jackson Ave\, San Jose\, CA 95116 US
SUMMARY:RMC Trauma Nursing Core Course
END:VEVENT
END:VCALENDAR
